BEGIN:VCALENDAR
VERSION:2.0
PRODID:-//Ennser Museen - ECPv6.15.20//NONSGML v1.0//EN
CALSCALE:GREGORIAN
METHOD:PUBLISH
X-ORIGINAL-URL:https://enns-museen.at
X-WR-CALDESC:Veranstaltungen für Ennser Museen
REFRESH-INTERVAL;VALUE=DURATION:PT1H
X-Robots-Tag:noindex
X-PUBLISHED-TTL:PT1H
BEGIN:VTIMEZONE
TZID:UTC
BEGIN:STANDARD
TZOFFSETFROM:+0000
TZOFFSETTO:+0000
TZNAME:UTC
DTSTART:20220101T000000
END:STANDARD
END:VTIMEZONE
BEGIN:VEVENT
DTSTART;TZID=UTC:20230506T133000
DTEND;TZID=UTC:20230506T133000
DTSTAMP:20260419T144654
CREATED:20230323T084307Z
LAST-MODIFIED:20230323T085007Z
UID:10000007-1683379800-1683379800@enns-museen.at
SUMMARY:Lapidarium – mehr als nur alte Steine
DESCRIPTION:Lapidarium – mehr als nur alte Steine \nAktionswoche INTERNATIONALER MUSEUMSTAG IN OÖ\, 6. bis 14. Mai 2023 \nEine für die Stadtgeschichte wichtige Denkmalgruppe ist nach ihrer Restaurierung vor Witterung geschützt aufgestellt und wieder öffentlich zugänglich. Damit werden diese Grabdenkmäler vor dem weiteren Verfall bewahrt und für die Zukunft erhalten. \nIm Rahmen einer Führung wird gezeigt\, dass es sich um mehr als nur alte Steine handelt\, bieten sie doch Informationen über Personen aus Enns und ihr Schicksal. \nTreffpunkt: Basilika St. Laurenz. Anmeldung unter +43 664 78022799 \nEintritt frei
URL:https://enns-museen.at/event/lapidarium-mehr-als-nur-alte-steine/
LOCATION:Basilika St. Laurenz\, Lauriacumstrasse 9\, Enns
CATEGORIES:Event
END:VEVENT
BEGIN:VEVENT
DTSTART;TZID=UTC:20230507T100000
DTEND;TZID=UTC:20230507T113000
DTSTAMP:20260419T144654
CREATED:20230323T082403Z
LAST-MODIFIED:20230323T085200Z
UID:10000005-1683453600-1683459000@enns-museen.at
SUMMARY:Was ist von den Römern geblieben?
DESCRIPTION:Was ist von den Römern geblieben? \nAktionswoche INTERNATIONALER MUSEUMSTAG IN OÖ\, 6. bis 14. Mai 2023 \nRoms kulturelles Erbe ist omnipräsent. \nThemenführung inklusive Kurzvortrag. Geeignet ab 3. Klasse Volksschule. \nBegrenzte Teilnehmeranzahl. Wir bitten um Anmeldung unter +43 7223 85362 \nTreffpunkt: Museum Lauriacum. Eintritt frei
URL:https://enns-museen.at/event/was-ist-von-den-roemern-geblieben/
LOCATION:Museum Lauriacum\, Stadtplatz Enns\, Enns\, 4470\, Österreich
CATEGORIES:Event
END:VEVENT
BEGIN:VEVENT
DTSTART;TZID=UTC:20230507T140000
DTEND;TZID=UTC:20230507T153000
DTSTAMP:20260419T144654
CREATED:20230323T082729Z
LAST-MODIFIED:20230323T085244Z
UID:10000006-1683468000-1683473400@enns-museen.at
SUMMARY:Erkundungstour entlang der Römersteine Lauriacums.
DESCRIPTION:Erkundungstour entlang der Römersteine Lauriacums. \nAktionswoche INTERNATIONALER MUSEUMSTAG IN OÖ\, 6. bis 14. Mai 2023 \nBei dieser Stadtführung spazieren wir entlang der nachhaltig wiederverwendeten römischen Baumaterialien. \nBegrenzte Teilnehmeranzahl. Wir bitten um Anmeldung unter +43 7223 85362 \nTreffpunkt: Museum Lauriacum \nEintritt frei
URL:https://enns-museen.at/event/erkundungstour-entlang-der-roemersteine-lauriacums/
LOCATION:Museum Lauriacum\, Stadtplatz Enns\, Enns\, 4470\, Österreich
CATEGORIES:Event
END:VEVENT
BEGIN:VEVENT
DTSTART;TZID=UTC:20230507T173000
DTEND;TZID=UTC:20230507T173000
DTSTAMP:20260419T144654
CREATED:20230323T084651Z
LAST-MODIFIED:20230323T085328Z
UID:10000008-1683480600-1683480600@enns-museen.at
SUMMARY:Führung im Museum 1212 Enns
DESCRIPTION:Führung im Museum 1212 Enns \nAktionswoche INTERNATIONALER MUSEUMSTAG IN OÖ\, 6. bis 14. Mai 2023 \nMachen Sie bei einer Führung einen Ausflug in die Geschichte der ältesten Stadt Österreichs in der neu gestalteten Ausstellung im Schloss Ennsegg. Bestimmt entdecken Sie viele unbekannte Details und Exponate. Eine noch nie gezeigte Reportage aus der fernen Vergangenheit erwartet Sie ebenfalls. \nTreffpunkt Schloss Ennsegg. Anmeldung unter +43 664 78022799 \nEintritt frei
URL:https://enns-museen.at/event/fuehrung-im-museum-1212-enns/
LOCATION:Schloss Ennsegg\, Schlossgasse 4\, Enns
CATEGORIES:Event
END:VEVENT
BEGIN:VEVENT
DTSTART;TZID=UTC:20230509T183000
DTEND;TZID=UTC:20230509T183000
DTSTAMP:20260419T144654
CREATED:20230323T090116Z
LAST-MODIFIED:20230323T090116Z
UID:10000012-1683657000-1683657000@enns-museen.at
SUMMARY:Stadtarchiv und Bibliothek – ein Abend im Museum
DESCRIPTION:Stadtarchiv und Bibliothek – ein Abend im Museum \nAktionswoche INTERNATIONALER MUSEUMSTAG IN OÖ\, 6. bis 14. Mai 2023 \nEin kleiner Einblick in das „Gedächtnis“ der Stadt Enns. Wie wir eine Antwort auf Fragen zur Geschichte unserer Stadt erhalten können. Welche Dokumente im Stadtarchiv aufbewahrt werden und was bei Anfragen zu beachten ist. Die Bibliothek des Museumvereins Lauriacum enthält neben Büchern und Zeitschriften weitere überraschende Informationen zur Stadtgeschichte. \nTreffpunkt Museum Lauriacum. Anmeldung unter +43 664 78022799 \nEintritt frei
URL:https://enns-museen.at/event/stadtarchiv-und-bibliothek-ein-abend-im-museum/
LOCATION:Museum Lauriacum\, Stadtplatz Enns\, Enns\, 4470\, Österreich
CATEGORIES:Event
END:VEVENT
BEGIN:VEVENT
DTSTART;TZID=UTC:20230511T173000
DTEND;TZID=UTC:20230511T173000
DTSTAMP:20260419T144654
CREATED:20230323T085728Z
LAST-MODIFIED:20230323T085728Z
UID:10000009-1683826200-1683826200@enns-museen.at
SUMMARY:Führung im Museum 1212 Enns
DESCRIPTION:Führung im Museum 1212 Enns \nAktionswoche INTERNATIONALER MUSEUMSTAG IN OÖ\, 6. bis 14. Mai 2023 \nMachen Sie bei einer Führung einen Ausflug in die Geschichte der ältesten Stadt Österreichs in der neu gestalteten Ausstellung im Schloss Ennsegg. Bestimmt entdecken Sie viele unbekannte Details und Exponate. Eine noch nie gezeigte Reportage aus der fernen Vergangenheit erwartet Sie ebenfalls. \nTreffpunkt Schloss Ennsegg. Anmeldung unter +43 664 78022799 \nEintritt frei
URL:https://enns-museen.at/event/fuehrung-im-museum-1212-enns-2/
LOCATION:Schloss Ennsegg\, Schlossgasse 4\, Enns
CATEGORIES:Event
END:VEVENT
BEGIN:VEVENT
DTSTART;TZID=UTC:20230512T183000
DTEND;TZID=UTC:20230512T183000
DTSTAMP:20260419T144654
CREATED:20230323T090221Z
LAST-MODIFIED:20230323T090221Z
UID:10000013-1683916200-1683916200@enns-museen.at
SUMMARY:Stadtarchiv und Bibliothek – ein Abend im Museum
DESCRIPTION:Stadtarchiv und Bibliothek – ein Abend im Museum \nAktionswoche INTERNATIONALER MUSEUMSTAG IN OÖ\, 6. bis 14. Mai 2023 \nEin kleiner Einblick in das „Gedächtnis“ der Stadt Enns. Wie wir eine Antwort auf Fragen zur Geschichte unserer Stadt erhalten können. Welche Dokumente im Stadtarchiv aufbewahrt werden und was bei Anfragen zu beachten ist. Die Bibliothek des Museumvereins Lauriacum enthält neben Büchern und Zeitschriften weitere überraschende Informationen zur Stadtgeschichte. \nTreffpunkt Museum Lauriacum. Anmeldung unter +43 664 78022799 \nEintritt frei
URL:https://enns-museen.at/event/stadtarchiv-und-bibliothek-ein-abend-im-museum-2/
LOCATION:Museum Lauriacum\, Stadtplatz Enns\, Enns\, 4470\, Österreich
CATEGORIES:Event
END:VEVENT
BEGIN:VEVENT
DTSTART;TZID=UTC:20230513T100000
DTEND;TZID=UTC:20230513T100000
DTSTAMP:20260419T144654
CREATED:20230323T085608Z
LAST-MODIFIED:20230323T085803Z
UID:10000010-1683972000-1683972000@enns-museen.at
SUMMARY:Lapidarium – mehr als nur alte Steine
DESCRIPTION:Lapidarium – mehr als nur alte Steine \nAktionswoche INTERNATIONALER MUSEUMSTAG IN OÖ\, 6. bis 14. Mai 2023 \nEine für die Stadtgeschichte wichtige Denkmalgruppe ist nach ihrer Restaurierung vor Witterung geschützt aufgestellt und wieder öffentlich zugänglich. Damit werden diese Grabdenkmäler vor dem weiteren Verfall bewahrt und für die Zukunft erhalten. \nIm Rahmen einer Führung wird gezeigt\, dass es sich um mehr als nur alte Steine handelt\, bieten sie doch Informationen über Personen aus Enns und ihr Schicksal. \nTreffpunkt: Basilika St. Laurenz. Anmeldung unter +43 664 78022799 \nEintritt frei
URL:https://enns-museen.at/event/lapidarium-mehr-als-nur-alte-steine-2/
LOCATION:Basilika St. Laurenz\, Lauriacumstrasse 9\, Enns
CATEGORIES:Event
END:VEVENT
BEGIN:VEVENT
DTSTART;TZID=UTC:20230513T140000
DTEND;TZID=UTC:20230513T140000
DTSTAMP:20260419T144654
CREATED:20230323T085934Z
LAST-MODIFIED:20230323T085934Z
UID:10000011-1683986400-1683986400@enns-museen.at
SUMMARY:Stadt und Umwelt – die mittelalterliche Stadt Enns
DESCRIPTION:Stadt und Umwelt – die mittelalterliche Stadt Enns \nAktionswoche INTERNATIONALER MUSEUMSTAG IN OÖ\, 6. bis 14. Mai 2023 \nDer Vortrag führt Sie auf eine abwechslungsreiche Entdeckungsreise in eine ferne und doch auch sehr nahe Vergangenheit. Die lebenswichtigen Güter und auch Luxusgegenstände kamen auf vielen Wegen nach Enns. Bei den Gemälden im Ratssaal können wir uns bei manchen Fragen auf eine gemeinsame Suche machen. \nTreffpunkt Museum Lauriacum. Anmeldung unter +43 664 78022799 . \nEintritt frei
URL:https://enns-museen.at/event/lapidarium-mehr-als-nur-alte-steine-duplicate-1/
LOCATION:Basilika St. Laurenz\, Lauriacumstrasse 9\, Enns
CATEGORIES:Event
END:VEVENT
END:VCALENDAR